BEGIN:VCALENDAR
VERSION:2.0
PRODID:-//Musinc - ECPv6.15.20//NONSGML v1.0//EN
CALSCALE:GREGORIAN
METHOD:PUBLISH
X-WR-CALNAME:Musinc
X-ORIGINAL-URL:https://musinc.org.uk
X-WR-CALDESC:Events for Musinc
REFRESH-INTERVAL;VALUE=DURATION:PT1H
X-Robots-Tag:noindex
X-PUBLISHED-TTL:PT1H
BEGIN:VTIMEZONE
TZID:UTC
BEGIN:STANDARD
TZOFFSETFROM:+0000
TZOFFSETTO:+0000
TZNAME:UTC
DTSTART:20240101T000000
END:STANDARD
END:VTIMEZONE
BEGIN:VEVENT
DTSTART;TZID=UTC:20250112T150000
DTEND;TZID=UTC:20250112T160000
DTSTAMP:20260420T025711
CREATED:20241213T173212Z
LAST-MODIFIED:20241220T162446Z
UID:15812-1736694000-1736697600@musinc.org.uk
SUMMARY:Classical Café: Alison Gill
DESCRIPTION:Alison Gill presents Mussorgsky’s ‘Pictures at an Exhibition’. \nBe inspired by a gallery of musical pictures! Today’s recital will celebrate Mussorgsky’s colourful piano work ‘Pictures at an Exhibition’\, inspired by a visit to an art gallery. The 10 paintings we will reflect on will cover everything from the gardens and catacombs of Paris through to the Great Gates of Kiev (with a few gnomes and witches in between!). \nThe pieces will be performed by Alison Gill at the piano with narration from Eleanor Mooney to help bring the paintings to life. Bring your sketchpad and pencils (or borrow some of ours) and let your imagination run wild with the music and images. \nAbout Alison\nAlison Gill is a graduate of the Royal Academy of Music\, specialising as an accompanist and répétiteur. Now based in North Yorkshire\, Alison is highly sought after as an accompanist across the region\, collaborating regularly with the Chorus of the Royal Northern Sinfonia\, the Jervaulx Singers and as an accompanist for Leeds Conservatoire\, Durham University\, the Berkshire Choral International and for the BBC Proms held at the Glasshouse International Centre for Music. As a soloist and accompanist Alison has also performed at venues from the Wigmore Hall to the Palau de La Musica in Barcelona and Vienna’s Musikverein. \nAbout Eleanor Mooney\nEleanor Mooney is a singer\, performer and community musician. She collaborates with regional and national organisations including Royal Northern Sinfonia\, Sunderland Culture and The National Theatre and has led community music groups for almost 20 years. She sings\, writes songs and plays uke in her bands and is releasing new music soon! \nAbout Classical Café\nClassical Café is a series of Sunday afternoon performances at Middlesbrough Town Hall. Listen to classical music in a more informal and relaxed atmosphere\, enjoying coffee and cake while you listen! \nDoors open 2pm for refreshments.  \nTickets £4.50 (+50p booking fee)\, free for under 16s \nBook now
URL:https://musinc.org.uk/event/classical-cafe-alison-gill/
LOCATION:Middlesbrough Town Hall\, Middlesbrough Town Hall\, Albert Road\, Middlesbrough\, TS1 2QJ
CATEGORIES:Adults,Concerts,Families
ATTACH;FMTTYPE=image/jpeg:https://musinc.org.uk/wp-content/uploads/2024/12/Alison-Gill-c-Andrej-Grilc-07062-2-scaled.jpg
ORGANIZER;CN="Musinc":MAILTO:musinc@middlesbrough.gov.uk
END:VEVENT
END:VCALENDAR