BEGIN:VCALENDAR
VERSION:2.0
PRODID:-//Musinc - ECPv6.15.20//NONSGML v1.0//EN
CALSCALE:GREGORIAN
METHOD:PUBLISH
X-ORIGINAL-URL:https://musinc.org.uk
X-WR-CALDESC:Events for Musinc
REFRESH-INTERVAL;VALUE=DURATION:PT1H
X-Robots-Tag:noindex
X-PUBLISHED-TTL:PT1H
BEGIN:VTIMEZONE
TZID:UTC
BEGIN:STANDARD
TZOFFSETFROM:+0000
TZOFFSETTO:+0000
TZNAME:UTC
DTSTART:20240101T000000
END:STANDARD
END:VTIMEZONE
BEGIN:VEVENT
DTSTART;TZID=UTC:20250504T150000
DTEND;TZID=UTC:20250504T160000
DTSTAMP:20260420T014538
CREATED:20241220T164515Z
LAST-MODIFIED:20250408T124309Z
UID:15850-1746370800-1746374400@musinc.org.uk
SUMMARY:Classical Café: Vox Populi
DESCRIPTION:Vox Populi presents ‘To the Wild’\, a concert where we explore choral music that celebrates the natural world and our ever-more precarious relationship with it. Featuring music by Britten\, Finzi\, McDowall and Stanford. \nVox Populi is a professional vocal consort based in Newcastle Upon Tyne whose mission is to bring high-quality choral music to the North East of England. They regularly perform a variety of repertoire\, from early Renaissance works to modern arrangements of contemporary songs and have developed a reputation for their engaging\, themed concert programmes and enchanting performances. \nAbout Classical Café\nClassical Café is a series of Sunday afternoon performances at Middlesbrough Town Hall. Listen to classical music in a more informal and relaxed atmosphere\, enjoying coffee and cake while you listen! \nTickets: £5\, free for under 16s. Doors open 2pm for refreshments.
URL:https://musinc.org.uk/event/classical-cafe-vox-populi/
LOCATION:Middlesbrough Town Hall\, Middlesbrough Town Hall\, Albert Road\, Middlesbrough\, TS1 2QJ
CATEGORIES:Concerts
ATTACH;FMTTYPE=image/jpeg:https://musinc.org.uk/wp-content/uploads/2024/12/Vox-Populi.jpg
ORGANIZER;CN="Musinc":MAILTO:musinc@middlesbrough.gov.uk
END:VEVENT
END:VCALENDAR