BEGIN:VCALENDAR
VERSION:2.0
PRODID:-//Musinc - ECPv6.15.20//NONSGML v1.0//EN
CALSCALE:GREGORIAN
METHOD:PUBLISH
X-WR-CALNAME:Musinc
X-ORIGINAL-URL:https://musinc.org.uk
X-WR-CALDESC:Events for Musinc
REFRESH-INTERVAL;VALUE=DURATION:PT1H
X-Robots-Tag:noindex
X-PUBLISHED-TTL:PT1H
BEGIN:VTIMEZONE
TZID:UTC
BEGIN:STANDARD
TZOFFSETFROM:+0000
TZOFFSETTO:+0000
TZNAME:UTC
DTSTART:20240101T000000
END:STANDARD
END:VTIMEZONE
BEGIN:VEVENT
DTSTART;TZID=UTC:20250216T150000
DTEND;TZID=UTC:20250216T160000
DTSTAMP:20260420T080413
CREATED:20250107T124344Z
LAST-MODIFIED:20250117T143803Z
UID:15858-1739718000-1739721600@musinc.org.uk
SUMMARY:Classical Café: Baluji Shrivastav OBE (sitar) & Yousuf Ali Khan (tabla)
DESCRIPTION:Sunday 16th February 2025\, 3-4pm\, doors open 2pm for refreshments. Tickets £5\, free for under 16s.\nJoin us for this Indian classical concert presented with GemArts! \nBook now\n  \nBaluji Shrivastav OBE is one of the world’s leading composers and sitar players. Described as ‘sitarist to the stars’ (Evening Standard)\, he has performed and recorded with artists such as Stevie Wonder\, Coldplay\, Massive Attack\, Madness\, Shakira\, Malu\, Boy George & Doves. \nBaluji is signed to Naxos World ARC with over fifteen releases of classical and world music fusion. His compositions include works for orchestra\, theatre\, dance\, film\, television and radio. Selected credits include Disney’s Million Dollar Arm\, 20th Century Fox’s New Girl\, NBC’s Outsourced and the world’s only Urdu opera Sohini and Mahival\, which he composed with Golden Globe and Oscar Winner Dario Marianelli. \nBaluji Music Foundation is a registered charity established principally to promote the participation of disabled people in music featuring The Inner Vision Orchestra of professional blind musicians. Accolades include an OBE for services to music\, the GG2 Award for Overcoming Adversity\, Non-Resident Indian of the Year for Art and Culture and the prestigious Hind Rattan Award-Jewel of India. \nAccompanying on tabla is Yousuf Ali Khan who comes from the same famous musical dynasty as Ali Akhbar Khan and began playing tabla at the age of five. Yousuf has worked extensively as a performer\, workshop leader\, and music teacher and has released several albums of his own. \n  \nWatch the performance below for a taste of what to expect! \n\n  \nAbout Classical Café \nClassical Café is a series of Sunday afternoon performances at Middlesbrough Town Hall. Listen to classical music in a more informal and relaxed atmosphere\, enjoying coffee and cake while you listen!
URL:https://musinc.org.uk/event/classical-cafe-baluji-shrivastav/
LOCATION:Middlesbrough Town Hall\, Middlesbrough Town Hall\, Albert Road\, Middlesbrough\, TS1 2QJ
CATEGORIES:Concerts
ATTACH;FMTTYPE=image/jpeg:https://musinc.org.uk/wp-content/uploads/2025/01/Baluji.jpg
ORGANIZER;CN="Musinc":MAILTO:musinc@middlesbrough.gov.uk
END:VEVENT
END:VCALENDAR