BEGIN:VCALENDAR
VERSION:2.0
PRODID:-//Musinc - ECPv6.15.20//NONSGML v1.0//EN
CALSCALE:GREGORIAN
METHOD:PUBLISH
X-ORIGINAL-URL:https://musinc.org.uk
X-WR-CALDESC:Events for Musinc
REFRESH-INTERVAL;VALUE=DURATION:PT1H
X-Robots-Tag:noindex
X-PUBLISHED-TTL:PT1H
BEGIN:VTIMEZONE
TZID:UTC
BEGIN:STANDARD
TZOFFSETFROM:+0000
TZOFFSETTO:+0000
TZNAME:UTC
DTSTART:20240101T000000
END:STANDARD
END:VTIMEZONE
BEGIN:VEVENT
DTSTART;TZID=UTC:20250331T133000
DTEND;TZID=UTC:20250331T143000
DTSTAMP:20260420T044152
CREATED:20241013T191816Z
LAST-MODIFIED:20250304T142802Z
UID:15429-1743427800-1743431400@musinc.org.uk
SUMMARY:Classical Café for Primary Schools: Cri du Canard
DESCRIPTION:Monday 31st March 2025\, 1.30pm-2.30pm\, free \nShare in the joy of French folk music and dance from this trio of musicians! \nCri du Canard are a French folk trio\, currently based in the North of England. \nWith passion and experience coming out of their ears\, these three highly regarded musicians throw themselves into their work\, performing and leading workshops across the UK and EU with expertise\, humour\, and panache. \nCri du Canard are:\nGrace Smith – Violon\nSam Partridge – Flûte traversiere en bois\nDave Gray – Accordéon diatonique \nExpect to be transported to the beating musical heart of France\, with an experience as nourishing for the soul as a good bowl of boeuf bourguignon! \nThis event is open to school groups and home educating families and has been designed with KS2 children in mind\, although is suitable for all primary aged children. \nTo book your seats please email musinc@middlesbrough.gov.uk with a booking form. \nBook now
URL:https://musinc.org.uk/event/classical-cafe-for-primary-schools-cri-du-canard/
LOCATION:Middlesbrough Town Hall\, Middlesbrough Town Hall\, Albert Road\, Middlesbrough\, TS1 2QJ
CATEGORIES:Concerts,Schools
ATTACH;FMTTYPE=image/png:https://musinc.org.uk/wp-content/uploads/2022/09/cri-du-canard.png
ORGANIZER;CN="Musinc":MAILTO:musinc@middlesbrough.gov.uk
END:VEVENT
END:VCALENDAR