BEGIN:VCALENDAR
VERSION:2.0
PRODID:-//Musinc - ECPv6.15.20//NONSGML v1.0//EN
CALSCALE:GREGORIAN
METHOD:PUBLISH
X-WR-CALNAME:Musinc
X-ORIGINAL-URL:https://musinc.org.uk
X-WR-CALDESC:Events for Musinc
REFRESH-INTERVAL;VALUE=DURATION:PT1H
X-Robots-Tag:noindex
X-PUBLISHED-TTL:PT1H
BEGIN:VTIMEZONE
TZID:UTC
BEGIN:STANDARD
TZOFFSETFROM:+0000
TZOFFSETTO:+0000
TZNAME:UTC
DTSTART:20240101T000000
END:STANDARD
END:VTIMEZONE
BEGIN:VEVENT
DTSTART;TZID=UTC:20250228T100000
DTEND;TZID=UTC:20250228T153000
DTSTAMP:20260421T014153
CREATED:20241203T155754Z
LAST-MODIFIED:20250221T125551Z
UID:15755-1740736800-1740756600@musinc.org.uk
SUMMARY:Come and Play: Community Orchestra
DESCRIPTION:Come and play with Musinc and The Cobweb Orchestra! \nIn partnership with our friends at The Cobweb Orchestra\, we’re inviting musicians to join our community orchestra for a day of workshops at Middlesbrough Town Hall\, finishing with a sharing performance. \nSign up by 25th February. \nSign up now!\n  \nOur orchestra is open to ages 8+ and all abilities\, including those with SEND and neurodiversities. All instruments\, including non-orchestral\, are welcome – some experience is necessary. \nOn our sign up form\, we’ll ask what instrument you play and for a description of your ability level so that we can make we have all the right music on the day. Don’t worry if you don’t read music – our tutors will be on hand during the day to support musicians who learn music through alternative methods. \nWe’ll play family-favourite classical music\, including tunes from films\, and the day will finish with a sharing performance for friends\, family and anyone else who’d like to come along. \nSchedule: \n9.30am – arrival and registration \n10am – welcome\, warmups and rehearsals begin \n12.15 – lunch break \n1pm – afternoon rehearsals \n3pm – sharing performance \nAccess information \nToilets and facilities \nFor more details about our facilities and accessing the different spaces at Middlesbrough Town Hall please visit https://boxoffice.middlesbrough.gov.uk/middlesbrough-town-hall/your-visit-to-middlesbrough-town-hall/accessibility-at-middlesbrough-town-hall/ \nPushchair policy \nDue to Middlesbrough Town Hall’s fire regulation policies pushchairs\, prams & car seats must be left in our dedicated ‘buggy parking’ zone on the carriageway and cannot be taken into any of the event spaces. Unfortunately\, we cannot take responsibility for items left there\, but we do our best to keep an eye on them. \nRelaxed setting \nOur events take place in a relaxed environment\, and have the following features: \n\nOur spaces have consistent lighting\, with low level auditorium lights on throughout\nOur musicians and facilitators have relaxed attitude to noise and moving around the space\nA quiet\, chill out space will be available should you need a break. A limited number of ear defenders are also available from the Box Office
URL:https://musinc.org.uk/event/come-and-play-community-orchestra/
LOCATION:Middlesbrough Town Hall\, Middlesbrough Town Hall\, Albert Road\, Middlesbrough\, TS1 2QJ
CATEGORIES:Adults,Young People
ATTACH;FMTTYPE=image/png:https://musinc.org.uk/wp-content/uploads/2023/05/community-orchestra.png
ORGANIZER;CN="Musinc":MAILTO:musinc@middlesbrough.gov.uk
END:VEVENT
END:VCALENDAR