BEGIN:VCALENDAR
VERSION:2.0
PRODID:-//Musinc - ECPv6.15.20//NONSGML v1.0//EN
CALSCALE:GREGORIAN
METHOD:PUBLISH
X-ORIGINAL-URL:https://musinc.org.uk
X-WR-CALDESC:Events for Musinc
REFRESH-INTERVAL;VALUE=DURATION:PT1H
X-Robots-Tag:noindex
X-PUBLISHED-TTL:PT1H
BEGIN:VTIMEZONE
TZID:UTC
BEGIN:STANDARD
TZOFFSETFROM:+0000
TZOFFSETTO:+0000
TZNAME:UTC
DTSTART:20240101T000000
END:STANDARD
END:VTIMEZONE
BEGIN:VEVENT
DTSTART;TZID=UTC:20250609T163000
DTEND;TZID=UTC:20250609T180000
DTSTAMP:20260420T205643
CREATED:20250328T153106Z
LAST-MODIFIED:20250506T133411Z
UID:15942-1749486600-1749492000@musinc.org.uk
SUMMARY:Workshop: The End Times
DESCRIPTION:An introduction to making music with electronics using an apocalyptic musical blackboard! \nDuration: 90 minutes (including a 15 minute break).\nParticipants: Aimed at young adults (11-18) with some experience of music\, no experience of technology necessary. Up to 16 participants (8 per blackboard)\nDelivery Team: Liza Bec (Facilitator)\, Harry Bassett (Facilitator)\, Enzo Samuel (Sound Engineer) \nStructure: \n\nIntroductory performance (5 minutes)\nHow does the blackboard work? Intro to contact mics\, chalk\, blackboard paint and more! (10 minutes)\nSound and visual design using touchpads and MIDI keyboards to control different elements of the blackboard sound – tone\, reverb\, visuals\, pitch (15 minutes)\nCreation of original blackboard pieces\, working with a facilitator\, in 2 small groups. (30 minutes)\nSharing and feedback (15 minutes)\n\nWorkshop Outcomes: \n\n\n\nEnhanced Understanding of Interactive Sound Design\nParticipants will gain hands-on experience with contact mics and blackboard chalk to create dynamic sounds. They will learn how to manipulate various sound elements (such as tone\, pitch\, and reverb) using touchpads and MIDI keyboards.\nIncreased Confidence in Creative Collaboration\nParticipants will collaborate to create original blackboard sound pieces. This will encourage teamwork and inspire creative thinking\, allowing participants to experiment with different techniques and to confidently share unique ideas.\nDevelopment of Technical Skills\nParticipants develop skills in using technology such as touchpads\, MIDI keyboards\, and movement-sensitive wristbands to control sound and visuals.\nIncreased Understanding of the Intersection of Music\, Visual Art\, and Technology\nParticipants will explore how music\, visual art\, and technology can intersect in an interactive\, creative environment. This will deepen their understanding of sound design and inspire new ways of thinking about how art and technology can be integrated.\n\n\n\nAccessibility: The workshop is fully accessible and can be BSL or audio described\, please ask for further details. Real chalk is provided for use during the workshop. Movement sensitive SOMI-1 wristbands can be used to control blackboard pitch where this is preferable to the use of chalk. \nDBS: Lead artist is fully DBS checked and on the DBS Update Service \nTo book onto the workshop\, please fill in our sign up form and make sure to include ‘The End Times workshop’ as the group/session you’re interested in. For enquiries\, email musinc@middlesbrough.gov.uk. \nSupported by the National Lottery and Arts Council England.
URL:https://musinc.org.uk/event/workshop-the-end-times/
LOCATION:Middlesbrough Town Hall\, Middlesbrough Town Hall\, Albert Road\, Middlesbrough\, TS1 2QJ
CATEGORIES:Schools,Young People
ATTACH;FMTTYPE=image/jpeg:https://musinc.org.uk/wp-content/uploads/2025/03/The-End-Times-Promo-Pic-1-Paul-Blakemore-scaled.jpg
ORGANIZER;CN="Musinc":MAILTO:musinc@middlesbrough.gov.uk
END:VEVENT
END:VCALENDAR